BEGIN:VCALENDAR
VERSION:2.0
PRODID:-//eventon.com NONSGML v1.0//EN
CALSCALE:GREGORIAN
METHOD:PUBLISH
BEGIN:VEVENT
UID:69e8fa02384af
DTSTAMP:20260422T164034Z
DTSTART:20221118
DTEND:20221119
LOCATION:
SUMMARY:Restaurant Kreuz\,  Metzerlen
DESCRIPTION:Zur Website\nhttps://metzgete.blog/events/restaurant-kreuz-metz
 erlen/
URL:https://metzgete.blog/events/restaurant-kreuz-metzerlen/
END:VEVENT
END:VCALENDAR